BEGIN:VCALENDAR
VERSION:2.0
PRODID:-//eventon.com NONSGML v1.0//EN
CALSCALE:GREGORIAN
METHOD:PUBLISH
BEGIN:VEVENT
UID:69e89ede9d4f3
DTSTAMP:20260422T101142Z
DTSTART:20250624T220000Z
DTEND:20250624T230000Z
LOCATION:
SUMMARY:The CHC & Out on the Shelf: Nourishing your body while on HRT Workshop
DESCRIPTION:Join us for an educational workshop on nourishing your body whi
 le on HRT! 🏳️‍⚧️🌞 Learn how you can support and care for your
  body during this powerful time. ❤️ This workshop is a collaboration wi
 th the Guelph Community Health Centre. The GCHC provides low-barrier health
  care\,  wraparound supports & community[..]\nhttps://www.outontheshelf.com
 /events/nourishing-your-body-on-hrt/
URL:https://www.outontheshelf.com/events/nourishing-your-body-on-hrt/
END:VEVENT
END:VCALENDAR